BEGIN:VCALENDAR
VERSION:2.0
BEGIN:VEVENT
URL:https://anddycaicedo.com/acsocial/events/viewevent/79-premios-nuestra-tierra 
DTSTART:20260514T180000
DTEND:20260514T211500
SUMMARY:Premios Nuestra Tierra
DESCRIPTION:<p>Anddy Caicedo recibe dos nominaciones a los Premios Nuestra Tierra 2026: Mejor Canción Tropical con "Amor Real" y Mejor Artista Tropical. Vota con nosotros.</p>
LOCATION:Bogotá
END:VEVENT
END:VCALENDAR